BEGIN:VCALENDAR
VERSION:2.0
PRODID:-//ChamberMaster//Event Calendar 2.0//EN
METHOD:PUBLISH
X-PUBLISHED-TTL:P3D
REFRESH-INTERVAL:P3D
CALSCALE:GREGORIAN
BEGIN:VEVENT
DTSTART;VALUE=DATE:20260422
DTEND;VALUE=DATE:20260423
TRANSP:TRANSPARENT
X-MICROSOFT-CDO-ALLDAYEVENT:TRUE
SUMMARY:BOGO 1/2 off Pizza at Venezia Restaurant
DESCRIPTION:Daily Special:\n\n\n\nBuy one pizza\, get one 1/2off all day long!
X-ALT-DESC;FMTTYPE=text/html:Daily Special:<br />\n<br />\nBuy one pizza\, get one 1/2off all day long!
LOCATION:Venezia Restaurant 306 Kalamazoo St\, South Haven
UID:e.2015.14532
SEQUENCE:3
DTSTAMP:20260422T084905Z
URL:https://business.southhavenmi.com/events/details/bogo-1-2-off-pizza-at-venezia-restaurant-14532
END:VEVENT

END:VCALENDAR
