BEGIN:VCALENDAR
VERSION:2.0
PRODID:-//ChamberMaster//Event Calendar 2.0//EN
METHOD:PUBLISH
X-PUBLISHED-TTL:P3D
REFRESH-INTERVAL:P3D
CALSCALE:GREGORIAN
BEGIN:VEVENT
DTSTART:20260421T230000Z
DTEND:20260422T003000Z
X-MICROSOFT-CDO-ALLDAYEVENT:FALSE
SUMMARY:The Clink – Inside Michigan’s Historic Jails
DESCRIPTION:The Historical Association of South Haven presents:\n\nApril 21   Local true-crime author\, Tobin Buhk will present a program on his latest book\,\n\n                    "The Clink   Inside Michigan's Historic Jails"\n\n                      7:00P  Hartman School  355 Hubbard St.
X-ALT-DESC;FMTTYPE=text/html:The Historical Association of South Haven presents:<br />\nApril 21 &ndash\; Local true-crime author\, Tobin Buhk will present a program on his latest book\,<br />\n&nbsp\;&nbsp\;&nbsp\;&nbsp\;&nbsp\;&nbsp\;&nbsp\;&nbsp\;&nbsp\;&nbsp\;&nbsp\;&nbsp\;&nbsp\;&nbsp\;&nbsp\;&nbsp\;&nbsp\;&nbsp\;&nbsp\; &ldquo\;The Clink &ndash\; Inside Michigan&rsquo\;s Historic Jails&rdquo\;<br />\n&nbsp\;&nbsp\;&nbsp\;&nbsp\;&nbsp\;&nbsp\;&nbsp\;&nbsp\;&nbsp\;&nbsp\;&nbsp\;&nbsp\;&nbsp\;&nbsp\;&nbsp\;&nbsp\;&nbsp\;&nbsp\;&nbsp\;&nbsp\;&nbsp\; 7:00P&nbsp\; Hartman School&nbsp\; 355 Hubbard St.
LOCATION:Hartman School 355 Hubbard St.
UID:e.2015.13581
SEQUENCE:3
DTSTAMP:20260421T100344Z
URL:http://business.southhavenmi.com/events/details/the-clink-inside-michigan-s-historic-jails-13581
END:VEVENT

END:VCALENDAR
